BEGIN:VCALENDAR
VERSION:2.0
PRODID:-//NCLUG - ECPv6.15.20//NONSGML v1.0//EN
CALSCALE:GREGORIAN
METHOD:PUBLISH
X-WR-CALNAME:NCLUG
X-ORIGINAL-URL:https://nclug.net
X-WR-CALDESC:Events for NCLUG
REFRESH-INTERVAL;VALUE=DURATION:PT1H
X-Robots-Tag:noindex
X-PUBLISHED-TTL:PT1H
BEGIN:VTIMEZONE
TZID:America/New_York
BEGIN:DAYLIGHT
TZOFFSETFROM:-0500
TZOFFSETTO:-0400
TZNAME:EDT
DTSTART:20250309T070000
END:DAYLIGHT
BEGIN:STANDARD
TZOFFSETFROM:-0400
TZOFFSETTO:-0500
TZNAME:EST
DTSTART:20251102T060000
END:STANDARD
BEGIN:DAYLIGHT
TZOFFSETFROM:-0500
TZOFFSETTO:-0400
TZNAME:EDT
DTSTART:20260308T070000
END:DAYLIGHT
BEGIN:STANDARD
TZOFFSETFROM:-0400
TZOFFSETTO:-0500
TZNAME:EST
DTSTART:20261101T060000
END:STANDARD
BEGIN:DAYLIGHT
TZOFFSETFROM:-0500
TZOFFSETTO:-0400
TZNAME:EDT
DTSTART:20270314T070000
END:DAYLIGHT
BEGIN:STANDARD
TZOFFSETFROM:-0400
TZOFFSETTO:-0500
TZNAME:EST
DTSTART:20271107T060000
END:STANDARD
END:VTIMEZONE
BEGIN:VEVENT
DTSTART;TZID=America/New_York:20261003T090000
DTEND;TZID=America/New_York:20261004T160000
DTSTAMP:20260420T222650
CREATED:20260131T221444Z
LAST-MODIFIED:20260131T221445Z
UID:182059-1791018000-1791129600@nclug.net
SUMMARY:Bricksboro at the Greensboro Science Center
DESCRIPTION:NCLUG will be having their 5th annual Bricksboro this year!  Come and check out some awesome builds from many members of NCLUG.  The event is 9am – 5pm on Saturday\, October 3rd\, and 9am-4pm on Sunday\, October 4th. Admission to the event is included in your admission to the Greenboro Science Center\, which also has an amazing aquarium\, zoo and lots of other hands on science activities.
URL:https://nclug.net/event/bricksboro-at-the-greensboro-science-center-2/
END:VEVENT
END:VCALENDAR